BEGIN:VCALENDAR
VERSION:2.0
PRODID:-//hacksw/handcal//NONSGML v1.0//EN
BEGIN:VEVENT
SUMMARY:Rando annulee. La portaniere
UID:85caff1f-2297-4722-a22d-aa2a80e851c0
DTSTART:20260412T070000Z
DTEND:20260412T143000Z
LOCATION:Localisation   
CATEGORIES:Manifestation
STATUS:
DESCRIPTION:<p>Guide : Raymond VUOLA 06 65 90 42
 51</p>
 
 <p> </p>
 
 <p>Rando annulee. </p>
 
 <p>13 kms Denivele 400
 m  <strong>facile  IBP 46</strong></p>
 
 <p> depart de la rando a
 <strong>9 heures</strong>:  </p>
 
 <p> </p>
 
 <p>Heure rendez vous
 co voiturage :8h00   depart du covoiturage a PDE
 <strong>8h15</strong></p>
 
 <p>heure depart randonnee ; <strong>9
 heures</strong></p>
 
 <p>Bonjour randonnee en boucle des le massif des
 maures au milieu des forets de chenes lieges. </p>
 
 <p>Depart de la
 randonnee hameau des davids chemin de maraval  pierrefeu du var .
 83390 </p>
URL;VALUE=URI:https://www.gesrando13.fr/evenements/2026/04/12/rando-annulee-la-portaniere-2376354
END:VEVENT
END:VCALENDAR
