BEGIN:VCALENDAR
VERSION:2.0
PRODID:-//hacksw/handcal//NONSGML v1.0//EN
BEGIN:VEVENT
SUMMARY:Rando matinale : Grotte du Grosibou et Taoume retour par la pounche des escaoupres
UID:2a2d006a-4c4d-475b-ae75-417d9c52320a
DTSTART:20260408T070000Z
DTEND:20260408T101500Z
LOCATION:Localisation chemin du garlaban  allauch
CATEGORIES:Manifestation
STATUS:
DESCRIPTION:<p>Guide :Didier VERNA <strong>07 8110
 2349</strong></p>
 
 <p>Distance    7   -   Denivele 360   
 indice IBP  46  moyenne</p>
 
 <p>Belle  randonnee qui nous menera
 en haut du Taoume en passant par la grotte du Grosibou. Le retour
 s'effectuera par la pounche des escaoupres. De tres beaux points de
 vue vous attendent sur marseille et le massif du garlaban. Les 4
 premiers kms se font sur du faux-plat ou en montee.</p>
 
 <p>A noter
 toutefois un ou deux  passages delicats sur rocher en montee
 (hauteur de marche au dessus du genou) aux abords du Taoume. Batons
 et bonnes chaussures fortement conseilles</p>
 
 <p><strong>depart
 rando a 9 heures</strong> sur le parking situe juste apres le ranch
 sur la gauche</p>
 
 <p><strong>depart du covoiturage a PDE
 8h00</strong> (compter le temps des bouchons pour rejoindre la route
 des camoins)</p>
 
 <p>     </p>
URL;VALUE=URI:https://www.gesrando13.fr/evenements/2026/04/08/rando-matinale-grotte-du-grosibou-et-taoume-retour-par-la-pounche-des-escaoupres-2376351
END:VEVENT
END:VCALENDAR
